BEGIN:VCALENDAR
VERSION:2.0
PRODID:-//Tukios.com/
BEGIN:VEVENT
UID:f5b94cd3-60da-44fa-b046-6d4b6a6aa438@www.vanhoe.com
DTSTAMP:20260421T033838Z
DTSTART:20260424T183000Z
DTEND:20260424T193000Z
SUMMARY:Visitation
DESCRIPTION:
URL:https://www.vanhoe.com/obituaries/ernestine-l-long
LOCATION: 1500 6th St  East Moline IL 61244
GEO:41.5153827;-90.4472654
END:VEVENT
END:VCALENDAR