BEGIN:VCALENDAR
VERSION:2.0
PRODID:-//Tukios.com/
BEGIN:VEVENT
UID:44deb336-78ab-4c3a-8d57-81d9713acc47@www.vanhoe.com
DTSTAMP:20260421T034401Z
DTSTART:20260424T193000Z
DTEND:20260424T203000Z
SUMMARY:Funeral Service
DESCRIPTION:
URL:https://www.vanhoe.com/obituaries/ernestine-l-long
LOCATION: 1500 6th St  East Moline IL 61244
GEO:41.5153827;-90.4472654
END:VEVENT
END:VCALENDAR