BEGIN:VCALENDAR
VERSION:2.0
PRODID:-//Tukios.com/
BEGIN:VEVENT
UID:ea7b9b0d-9b1c-4908-87bd-1bdb45b68345@www.vanhoe.com
DTSTAMP:20260424T030132Z
DTSTART:20260427T150000Z
DTEND:20260427T160000Z
SUMMARY:Visitation
DESCRIPTION:
URL:https://www.vanhoe.com/obituaries/iola-sullivan
LOCATION: 1500 6th St  East Moline IL 61244
GEO:41.5153827;-90.4472654
END:VEVENT
END:VCALENDAR