BEGIN:VCALENDAR
VERSION:2.0
PRODID:-//Tukios.com/
BEGIN:VEVENT
UID:829958c6-aeae-4160-bb10-ff4492bd0c9e@www.vanhoe.com
DTSTAMP:20260420T011332Z
DTSTART:20260424T143000Z
DTEND:20260424T153000Z
SUMMARY:Visitation
DESCRIPTION:
URL:https://www.vanhoe.com/obituaries/juliette-judy-lambert
LOCATION: 1500 6th St  East Moline IL 61244
GEO:41.5153827;-90.4472654
END:VEVENT
END:VCALENDAR