BEGIN:VCALENDAR
VERSION:2.0
PRODID:-//Tukios.com/
BEGIN:VEVENT
UID:3da3b045-e1ba-4b26-acc0-548a2fb95b19@www.vanhoe.com
DTSTAMP:20260420T011129Z
DTSTART:20260424T160000Z
DTEND:20260424T170000Z
SUMMARY:Mass of Christian Burial
DESCRIPTION:
URL:https://www.vanhoe.com/obituaries/juliette-judy-lambert
LOCATION: 800 17th St  Silvis IL 61282
GEO:41.5012654;-90.4068487
END:VEVENT
END:VCALENDAR